BEGIN:VCALENDAR
VERSION:2.0
PRODID:-//法鼓山法行會 - ECPv4.6.25//NONSGML v1.0//EN
CALSCALE:GREGORIAN
METHOD:PUBLISH
X-WR-CALNAME:法鼓山法行會
X-ORIGINAL-URL:https://fsddm.tw
X-WR-CALDESC:Events for 法鼓山法行會
BEGIN:VEVENT
DTSTART;TZID=UTC+0:20231231T140000
DTEND;TZID=UTC+0:20231231T160000
DTSTAMP:20260423T084823
CREATED:20231227T012024Z
LAST-MODIFIED:20231227T012640Z
UID:10133-1704031200-1704038400@fsddm.tw
SUMMARY:景觀組第394次出坡通知
DESCRIPTION:[vc_row][vc_column][vc_column_text]諸位園丁菩薩及法行師兄姐，阿彌陀佛! \n12/22冬至亦稱「冬節」、「長至節」、「亞歲」或稱「小年」，此日，日南至，日短之至，日影之長至。此時陰極之至，陽氣始生，主要是因為“冬至一陽生”，即是大地新的開始，所以冬至是一個節氣迴圈的吉日。古時候的冬至，君子安身靜體，百官絕事，鼓瑟吹笙，奏黃鐘之律，慶賀祝往來，一如年節，甚有冬至大如年之說。昨12/24又逢西方聖誕夜，謹以此出波通知祝福諸位園丁菩薩師兄姐們，冬至圓滿耶誕平安。同時也邀請大家12/31前來出坡，一起告別2023的最後一天。 \n前次出坡車行經冷水坑，乍看車體溫度計竟然低至9度，頂著陽明山頭的細雨濃霧，一行人笑稱是藉此出坡，一路來去開悟，別有意趣。所幸抵達金山時，氣溫略回溫四五度，天氣雖冷但也喜得出坡不流汗的好處，不亦快哉。當天景觀區的草坪可能也因天冷，似縮頭縮尾地收斂不少，也因仍下著細細雨絲，就讓草機休兵一次，大家將重點專注在四處探頭徒長的大花咸豐草上。在此感恩前次出坡的七位園丁師兄姐，在冷冷的寒天中，前來出坡，尤其感動的是三組玓玲師姐，清晨從日本成田機場飛回台北後，直接前來會合與家人一起出坡。收坡時，熟烤地瓜，草仔粿和紅棗薑茶，適時地發揮了天冷驅寒的功效。冷天的山上別有一種靜定的氛圍，在離開園區前，臨時決定巡行了一趟海印三昧，大家心中帶著一份安定，共同圓滿了第393次的出坡。 \n下周日12/31的第394次出坡日，歡迎各位法行師兄姐及園丁菩薩們同來出坡。屆時預計天氣應該也是屬濕涼的條件，還請大家注意保暖，並準備因應的衣物和雨具，可以的話也盡量多備一套乾爽衣物，於出坡後更換，以免受涼。下次如有計畫開車參與出坡可以提供共乘者，還請事先通知如鈴師姐車號以利通報山上。計畫出坡而需要協助安排搭載者，可以先請以電話或簡訊0939266886與我聯絡或0910112515/02-27334672與莊德純師兄聯絡，也可以先請依所附之開車名單，聯絡相近的開車菩薩，約定會合的共乘地點。倘若有來不及通報時，煩請師兄姐將車停大停車場，再走路往法鼓大學橋頭景觀區會合，感恩大家! \n \nPS.景觀組出坡大致工作內容: \n\n四周步道及下草坪平臺的石板鋪面間的草類清除\n草坪上和大石頭旁徒長的草類\n水岸兩邊石頭邊坡間縫的大花咸豐草\n石籠邊坡上的牽牛花藤和大花咸豐草，(蕨類要保留)高處邊坡請勿攀爬，另由熟練的園丁負責\n大片面積草坪割草後的草屑收集裝袋\n如遇雨後會有漂流木的清理\n入口石板步道的筆筒樹，枯黃的葉柄請由專人處理，切勿硬拉扯下來或由葉柄根部切鋸，以免造成傷口暴露而讓筆筒樹染病\n\n建平合十感恩[/vc_column_text][vc_single_image image="10134" img_size="700x0"][vc_column_text]法鼓山法行會景觀養護第394次出坡園丁快樂行 \n\n時間：112年12/31日 (日) 下午14:00~16:00景觀出坡\n地點：金山法鼓山教育園區法鼓大學橋頭溪畔\n茲預定2024年的出坡日期如后:2023/12/31(日) \,2024/1/14(日)\,2024/1/28(舊曆年前出坡日) \,2024/2/18 (舊曆年後初九出坡日)\,2024/3/3(日 \,2024/3/17(日)\,2024/3/31(日)\,2024/4/14(日)\,2024/4/28(日) \,2024/5/12(日) \,2024/5/26(日)\,2024/6/9(日) \,2024/6/23(日) \,2024/7/7(日)\,2024/7/21(日) \,2024/8/4(日) \,2024/8/18(日)\,2024/9/1(日) \,2024/9/15(日) \,2024/9/29(日)\,2024/10/13(日) \,2024/10/27(日) \,2024/11/10(日)\,2024/11/24(日) \,2024/12/8(日) \,2024/12/22(日)\,2025/1/5(日) \,2025/1/19(舊曆年前出坡日) \,2025/2/9(舊曆年後出坡日)。\n以上為來年出坡預定日期，再請大家參考，並將之排入您的行事曆中，無任感激。倘日期與山上重大活動有時間衝突時，屆時再視情況調整。\n\n[/vc_column_text][/vc_column][/vc_row] \n
URL:https://fsddm.tw/event/%e6%99%af%e8%a7%80%e7%b5%84%e7%ac%ac394%e6%ac%a1%e5%87%ba%e5%9d%a1%e9%80%9a%e7%9f%a5/
LOCATION:法鼓山世界佛教教育園區\, 新北市金山區三界里法鼓路555號\, 台灣
CATEGORIES:活動快訊
ATTACH;FMTTYPE=image/png:https://fsddm.tw/inc/uploads/2023/12/394.png
END:VEVENT
END:VCALENDAR