BEGIN:VCALENDAR
VERSION:2.0
PRODID:-//法鼓山法行會 - ECPv4.6.25//NONSGML v1.0//EN
CALSCALE:GREGORIAN
METHOD:PUBLISH
X-WR-CALNAME:法鼓山法行會
X-ORIGINAL-URL:https://fsddm.tw
X-WR-CALDESC:Events for 法鼓山法行會
BEGIN:VEVENT
DTSTART;TZID=UTC+0:20240303T140000
DTEND;TZID=UTC+0:20240303T160000
DTSTAMP:20260423T125911
CREATED:20240301T100521Z
LAST-MODIFIED:20240301T100521Z
UID:10196-1709474400-1709481600@fsddm.tw
SUMMARY:景觀組第398次出坡通知
DESCRIPTION:[vc_row][vc_column][vc_column_text]諸位園丁菩薩及法行師兄姐，阿彌陀佛! \n舊曆年後第一次出坡適逢師父圓寂十五周年感恩傳燈法會，謝謝法師提醒園丁菩薩報名，惟因我未能詳細告知要上網報名，亦未說明我們景觀區是歸建在哪一區，所以造成幾位園丁菩薩沒報成名，在此向大家懺悔致歉。2/18當天感恩有雲鐸 朝信 福田師兄以及旳玲 惠貞 瑞娟等共八位園丁，以出坡方式來感恩師父，收坡前有朱騏 心媛 繡晏師兄師姐前來關懷，在此謝謝大家，也感恩能與師父有緣，讓大家得以在法鼓山培福修慧，也願能善惜與所有園丁師兄姐善知識們相識的因緣，互為同學一起在禪法熏習下共同成長。 \n當天出坡並未動用機具整理草坪，而是集中主力在臨溪中後段平台及邊坡石籠得藤蔓和大花咸豐草，雖僅八位園丁，但兩個小時下來，總算把前次未完成的中後段邊坡，整理個徹底，根莖粗到幾乎成精的大花，綑綁著肥厚的藤蔓，一捲捲從邊坡上清理下來的感覺煞是療癒，希望往後出坡都能有足夠人手協助整理後段，以免再任其撒野，而束手無策到有人力時再很辛苦來清理。收坡時，大家分享出來的食物，又遠遠出超出出坡園丁的胃納量。所以，在分享點心的同時，同樣上演著彼此勸食的幸福場景，最後吃不完的還是感恩大家都能惜福的幫忙帶回去享用。在此感謝雲鐸師兄和惠貞 玓玲師姐為大家準備的點心，有大家真好。 \n下次出坡3/3已是節氣雨水的尾巴，隔兩日將是驚蟄，動物昆蟲入冬藏伏土中，不飲不食，稱為「蟄」，《月令七十二候集解》中說：「二月節，萬物出乎震，震為雷，故曰驚蟄。是蟄蟲驚而出走矣。」此時到了春天氣溫回暖，春雷驚醒了蟄居生物的冬眠，萬物呈現生機蓬勃的景象，只不過氣溫逐漸上升，但也很不穩定，常溫差變化大，故有春寒料峭之說，還請大家留意保暖。但整體節氣是春暖花開的時節，歡迎大家出來走走動動，出坡是師兄姐們很好的選項。誠歡迎各位法行師兄姐及園丁菩薩們，能夠預留時間同來出坡。預計當天應該是陰偶有陽光的天候，氣溫約22攝氏度。但考量出坡流汗，所以還是請大家準備收坡後的乾爽衣物更換，以免受涼。如有計畫開車參與出坡可以提供共乘者，還請事先通知如鈴師姐車號以利通報山上。計畫出坡而需要協助安排搭載者，可以先請以電話或簡訊0939266886與我聯絡或0910112515/02-27334672與莊德純師兄聯絡，也可以先請依所附之開車名單，聯絡相近的開車菩薩，約定會合的共乘地點。倘若有來不及通報時，煩請師兄姐將車停大停車場，再走路往法鼓大學橋頭景觀區會合，感恩大家! \n \nPS.景觀組出坡大致工作內容: \n\n四周步道及下草坪平臺的石板鋪面間的草類清除\n草坪上和大石頭旁徒長的草類\n水岸兩邊石頭邊坡間縫的大花咸豐草\n石籠邊坡上的牽牛花藤和大花咸豐草，(蕨類要保留)高處邊坡請勿攀爬，另由熟練的園丁負責\n大片面積草坪割草後的草屑收集裝袋\n如遇雨後會有漂流木的清理\n入口石板步道的筆筒樹，枯黃的葉柄請由專人處理，切勿硬拉扯下來或由葉柄根部切鋸，以免造成傷口暴露而讓筆筒樹染病\n\n建平合十感恩[/vc_column_text][vc_single_image image="10197" img_size=""][vc_column_text]法鼓山法行會景觀養護第397次出坡園丁快樂行 \n\n時間：113年3/3日 (日) 下午14:00~16:00景觀出坡\n地點：金山法鼓山教育園區法鼓大學橋頭溪畔\n茲預定2024年的出坡日期如后:2024/3/3(日)\,2024/3/17(日)\,2024/3/31(日)\,2024/4/14(日)\,2024/4/28(日)\,2024/5/12(日)\,\n2024/5/26(日)\,2024/6/9(日)\,2024/6/23(日)\,2024/7/7(日)\,2024/7/21(日)\,2024/8/4(日)\,2024/8/18(日)\,2024/9/1(日)\,2024/9/15(日)\,2024/9/29(日)\,2024/10/13(日)\,\n2024/10/27(日)\,2024/11/10(日)\,2024/11/24(日)\,2024/12/8(日) \,2024/12/22(日)\,2025/1/5(日)\,2025/1/19(舊曆年前出坡日)\,2025/2/9(舊曆年後出坡日)。\n以上為來年出坡預定日期，再請大家參考，並將之排入您的行事曆中，無任感激。倘日期與山上重大活動有時間衝突時，屆時再視情況調整。\n\n[/vc_column_text][/vc_column][/vc_row] \n
URL:https://fsddm.tw/event/%e6%99%af%e8%a7%80%e7%b5%84%e7%ac%ac398%e6%ac%a1%e5%87%ba%e5%9d%a1%e9%80%9a%e7%9f%a5/
LOCATION:法鼓山世界佛教教育園區\, 新北市金山區三界里法鼓路555號\, 台灣
CATEGORIES:活動快訊
ATTACH;FMTTYPE=image/png:https://fsddm.tw/inc/uploads/2024/03/398.png
END:VEVENT
END:VCALENDAR