BEGIN:VCALENDAR
VERSION:2.0
PRODID:-//法鼓山法行會 - ECPv4.6.25//NONSGML v1.0//EN
CALSCALE:GREGORIAN
METHOD:PUBLISH
X-WR-CALNAME:法鼓山法行會
X-ORIGINAL-URL:https://fsddm.tw
X-WR-CALDESC:Events for 法鼓山法行會
BEGIN:VEVENT
DTSTART;TZID=UTC+0:20240414T140000
DTEND;TZID=UTC+0:20240414T160000
DTSTAMP:20260423T192141
CREATED:20240412T010747Z
LAST-MODIFIED:20240412T010747Z
UID:10235-1713103200-1713110400@fsddm.tw
SUMMARY:景觀組第401次出坡通知
DESCRIPTION:[vc_row][vc_column][vc_column_text]諸位園丁菩薩及法行師兄姐，阿彌陀佛! \n清明已至天氣依然不穩冷熱變化不定，前次出坡過程到一半，驟逢春分雷雨大作，讓出坡的師兄姐體驗到了天候變化的無常。當天活動有富華 誠宗 朝信 福田師兄及茉莉 玓玲 瑞娟 淑美師姐等十位園丁前往出坡，感受到大雨洗禮的暢快，只是辛苦了在濕冷情況下，搭國光號回去的師兄姐還遇上堵車，希望師兄姐回家後都一切平安沒著涼才好，在此由衷地感恩大家。 \n清明節在仲春與暮春之交，是習俗祭祀祖先的日子，同時也是適合踏青外出走走的時節。宋 程顥有詩云:芳原綠野恣行事，春入遙山碧四圍。逐亂紅穿柳巷，困臨流水坐苔磯。莫辭盞酒十分勸，只恐風花一片飛。況是清明好天氣，不妨游衍莫忘歸。心態上適度放逸寬心，其實也是春三月養生的一種作法。這時候護肝養肺去濕預防感冒也是重點，因為清明早晚溫差變化大，雨量逐漸增多、濕度高，使得人體容易受到風邪與濕邪入侵，如何提高免疫力，預防邪氣入侵的同時，同時也要增加脾胃去除濕氣的能力。建議：飲食方面避免冷食和冷飲，以免傷及脾胃；多喝溫開水，促進新陳代謝。也要避免久坐不動，保持適度運動，透過流汗，排出身體濕氣。亦可考量多攝取黃豆、芡實、赤小豆等有利水消腫、健脾去濕的豆類。總之順著黃帝內經所云:春三月，此謂發陳，天地俱生，萬物以榮……自然界萬物恢復繁榮的生機，讓身體也動起來。所以此刻出坡還是大家很棒的養生選項之一。 \n4/14是我們下一次的出坡日，預期天候會是合適出坡的好天氣。當春風輕拂過總本山，山海綠樹皆詩意，心隨風飛自由舞，且以出坡詠春天。在此歡迎第四組的法行師姐師兄以及園丁菩薩們，預留時間上山同來出坡。目前雖已屬季春，但仍有乍暖還寒之慮，同時也考亮出坡後流汗，所以還是請大家務必準備收坡後的乾爽衣物更換，以免受涼。如有計畫開車參與出坡，可以提供共乘者，還請事先通知如鈴師姐車號以利通報山上。倘若有來不及通報時，煩請師兄姐將車停大停車場，再走路往法鼓大學橋頭景觀區會合，感恩大家! \n \nPS.景觀組出坡大致工作內容: \n\n四周步道及下草坪平臺的石板鋪面間的草類清除\n草坪上和大石頭旁徒長的草類\n水岸兩邊石頭邊坡間縫的大花咸豐草\n石籠邊坡上的牽牛花藤和大花咸豐草，(蕨類要保留)高處邊坡請勿攀爬，另由熟練的園丁負責\n大片面積草坪割草後的草屑收集裝袋\n如遇雨後會有漂流木的清理\n入口石板步道的筆筒樹，枯黃的葉柄請由專人處理，切勿硬拉扯下來或由葉柄根部切鋸，以免造成傷口暴露而讓筆筒樹染病\n\n建平合十感恩[/vc_column_text][vc_single_image image="10236" img_size=""][vc_column_text]法鼓山法行會景觀養護第401次出坡園丁快樂行 \n\n時間：113年4/14日 (日) 下午14:00~16:00景觀出坡\n地點：金山法鼓山教育園區法鼓大學橋頭溪畔\n茲預定2024年的出坡日期如后:2024/4/14(日)\,2024/4/28(日)\,2024/5/12(日)\,2024/5/26(日)\,2024/6/9(日)\,2024/6/23(日)\,2024/7/7(日)\,\n2024/7/21(日)\,2024/8/4(日)\,2024/8/18(日)\,2024/9/1(日)\,2024/9/15(日)\,2024/9/29(日)\,2024/10/13(日)\,2024/10/27(日)\,2024/11/10(日)\,2024/11/24(日)\,2024/12/8(日) \,\n2024/12/22(日)\,2025/1/5(日)\,2025/1/19(舊曆年前出坡日)\,2025/2/9(舊曆年後出坡日)。\n以上為來年出坡預定日期，再請大家參考，並將之排入您的行事曆中，無任感激。倘日期與山上重大活動有時間衝突時，屆時再視情況調整。\n\n[/vc_column_text][/vc_column][/vc_row] \n
URL:https://fsddm.tw/event/%e6%99%af%e8%a7%80%e7%b5%84%e7%ac%ac401%e6%ac%a1%e5%87%ba%e5%9d%a1%e9%80%9a%e7%9f%a5/
LOCATION:法鼓山世界佛教教育園區\, 新北市金山區三界里法鼓路555號\, 台灣
CATEGORIES:活動快訊
ATTACH;FMTTYPE=image/png:https://fsddm.tw/inc/uploads/2024/04/401.png
END:VEVENT
END:VCALENDAR