BEGIN:VCALENDAR
VERSION:2.0
PRODID:-//法鼓山法行會 - ECPv4.6.25//NONSGML v1.0//EN
CALSCALE:GREGORIAN
METHOD:PUBLISH
X-WR-CALNAME:法鼓山法行會
X-ORIGINAL-URL:https://fsddm.tw
X-WR-CALDESC:Events for 法鼓山法行會
BEGIN:VEVENT
DTSTART;TZID=UTC+0:20240428T140000
DTEND;TZID=UTC+0:20240428T160000
DTSTAMP:20260423T205237
CREATED:20240424T012524Z
LAST-MODIFIED:20240424T012524Z
UID:10274-1714312800-1714320000@fsddm.tw
SUMMARY:景觀組第402次出坡通知
DESCRIPTION:[vc_row][vc_column][vc_column_text]諸位園丁菩薩及法行師兄姐，阿彌陀佛! \n前第401次景觀出坡活動，感恩有美玲師姐領軍第四組八位師兄姐，連同天母線共乘園丁共十三位菩薩現身園區參與出坡，當天老天眷顧，許了我們一個合宜舒適的出坡天，大夥集中力氣在大學橋側停車場機房周邊，片滿白花的大花咸豐草和藤蔓上頭。應是春雨過後，先前除根未盡的大花乘勢徒長，還好大部分的園丁都熟練地，從溪邊坡面整理到沉砂池上部堤邊，總算大致抑制了其快速生長的態勢，令其收斂不少。另一部分臨男眾法師寮房側的平台，因先前大花清理得比較徹底，此次，只有少數大花的身影竄生在岸邊石縫及石籠坡坎上。故當天只動用一台割草機，巡剪了石板步道周邊及臨石籠邊坡的平台。兩個小時的出坡，除換來景觀區大體的清爽，也讓大家賺到勞動出汗的暢快。收坡時，福良師兄端出了兩顆甜美多汁的西瓜，美玲師姐特地帶來了著名的素包子，玓玲師姐準備的甘甜芭樂，繡晏師姐的鳳梨酥，瑞娟師姐的舒跑，當然少不了的還有金山地瓜和草仔粿……在彼此歡樂的勸食和交流中，我們順利地圓滿了第401次的景觀出坡。當天出奇的幸運，老天在我們車行離開園區後，才陸續地飄起了雨，果真是老天眷顧。 \n隨節氣更迭，待下次出坡已是穀雨，意即春天已近尾聲即將立夏。以往農耕時代，穀雨有雨，雨生百穀，是說這時候的田中秧苗或新種的作物，最需雨水的滋潤，所以有 “春雨貴如油”之說。總之，穀雨是一個充滿生機和期待的節氣，當雨水滋潤大地，大地即盪漾起植物生長的韻律，在穀雨時節，且讓我們把出坡勞動當作享受，將培養佈施的希望種子種進福田裡，相信有朝一日自會有所收成，景觀組永遠期盼有大家同來種福田。此節氣期間在飲食習慣上，因天氣漸漸變暖、春雨頻繁濕度高，氣溫變化較大，建議避免油膩辛辣，盡量選擇清淡的食物，尤其是要多食綠色蔬菜，以清熱解毒調節身體內的濕熱。同時適量多補充喝水，並控制鹽分攝取，尤其是醃制品和加工食品含鹽量較高的食物，避免引起水腫和高血壓。此外，香椿正是穀雨時節當令的食材之一，富含維生素和礦物質，對於保健養生多有助益。當然，其他富含優質蛋白質和維生素D等有利身體健康的食物，亦要隨時補充。 \n我們下一次的出坡日是4/28，目前預期天候也許會是局部有雨如，但相信老天還是會許我們一個合適出坡的好天氣，就等大家發心預留時間上山同來出坡。接下來的出坡天氣溫度，會是越來越有感的熱，不管是出坡流汗，還是遇雨身子難免會弄溼，還請大家務必準備收坡後的乾爽衣物更換，以免返程在車上因空調受涼。下次出坡有計畫開車參與可以提供共乘的師兄姐，請事先通知如鈴師姐車號以利通報山上。倘若有來不及通報時，煩請師兄姐將車停大停車場，再走路往法鼓大學橋頭景觀區會合，感恩大家! \n \nPS.景觀組出坡大致工作內容: \n\n四周步道及下草坪平臺的石板鋪面間的草類清除\n草坪上和大石頭旁徒長的草類\n水岸兩邊石頭邊坡間縫的大花咸豐草\n石籠邊坡上的牽牛花藤和大花咸豐草，(蕨類要保留)高處邊坡請勿攀爬，另由熟練的園丁負責\n大片面積草坪割草後的草屑收集裝袋\n如遇雨後會有漂流木的清理\n入口石板步道的筆筒樹，枯黃的葉柄請由專人處理，切勿硬拉扯下來或由葉柄根部切鋸，以免造成傷口暴露而讓筆筒樹染病\n\n建平合十感恩[/vc_column_text][vc_single_image image="10275" img_size=""][vc_column_text]法鼓山法行會景觀養護第402次出坡園丁快樂行 \n\n時間：113年4/28日 (日) 下午14:00~16:00景觀出坡\n地點：金山法鼓山教育園區法鼓大學橋頭溪畔\n茲預定2024年的出坡日期如后:2024/4/28(日)\,2024/5/12(日)\,2024/5/26(日)\,2024/6/9(日)\,2024/6/23(日)\,2024/7/7(日)\,2024/7/21(日)\,\n2024/8/4(日)\,2024/8/18(日)\,2024/9/1(日)\,2024/9/15(日)\,2024/9/29(日)\,2024/10/13(日)\,2024/10/27(日)\,2024/11/10(日)\,2024/11/24(日)\,2024/12/8(日) \,\n2024/12/22(日)\,2025/1/5(日)\,2025/1/19(舊曆年前出坡日)\,2025/2/9(舊曆年後出坡日)。\n以上為來年出坡預定日期，再請大家參考，並將之排入您的行事曆中，無任感激。倘日期與山上重大活動有時間衝突時，屆時再視情況調整。\n\n[/vc_column_text][/vc_column][/vc_row] \n
URL:https://fsddm.tw/event/%e6%99%af%e8%a7%80%e7%b5%84%e7%ac%ac402%e6%ac%a1%e5%87%ba%e5%9d%a1%e9%80%9a%e7%9f%a5/
LOCATION:法鼓山世界佛教教育園區\, 新北市金山區三界里法鼓路555號\, 台灣
CATEGORIES:活動快訊
ATTACH;FMTTYPE=image/jpeg:https://fsddm.tw/inc/uploads/2024/04/402.jpg
END:VEVENT
END:VCALENDAR