BEGIN:VCALENDAR
VERSION:2.0
PRODID:-//法鼓山法行會 - ECPv4.6.25//NONSGML v1.0//EN
CALSCALE:GREGORIAN
METHOD:PUBLISH
X-WR-CALNAME:法鼓山法行會
X-ORIGINAL-URL:https://fsddm.tw
X-WR-CALDESC:Events for 法鼓山法行會
BEGIN:VEVENT
DTSTART;TZID=UTC+0:20240901T140000
DTEND;TZID=UTC+0:20240901T160000
DTSTAMP:20260424T145953
CREATED:20240821T034120Z
LAST-MODIFIED:20240821T035118Z
UID:10383-1725199200-1725206400@fsddm.tw
SUMMARY:景觀組第411次出坡通知
DESCRIPTION:[vc_row][vc_column][vc_message message_box_color="chino" icon_fontawesome="fa fa-exclamation-circle" css=".vc_custom_1724212147417{margin-bottom: 20px !important;}"]法行會景觀出坡自2007年起迄今，常態出席的園丁人手日漸不足，還好這幾年有各組輪替按組別月份前來共同出坡，讓人手不足的窘境得以紓緩。目前因多位資深園丁年歲漸高，不宜再開車提供慈航載景觀菩薩上山，以致於有時候會讓比較會固定出坡的園丁，大老遠到石牌站會合共乘，又面臨車座位有限而沒能全數上山。因此有一事相求，想徵詢諸位師兄姐們，如日常有開車，且週日有可能可以上山提供共乘慈航的師兄姐們，能否與我聯繫，希望景觀組能再有園丁新血的加入，感恩大家。[/vc_message][vc_column_text]諸位園丁菩薩及法行師兄姐們，阿彌陀佛! \n處暑(8/22)臨近，長夏將去，涼風有信，羅扇輕縑，露蟬聲咽，秋月無邊……果真昨日出坡，天候對我們很是慈悲，在暑熱中卻帶有涼意，似真有一絲絲秋意了。感恩常辨法師體恤我們之前火力不足，在期間特別支援我們割了一次草，助益了我們這次三部割草機齊開，能更有效地將溪邊兩側諾大的草坪片區，一次整理個清清爽爽，重現了久違的淨靜面目。同時另有園丁菩薩們，也分頭將溪邊石岸間縫以及邊坡石籠上的大花和藤蔓，逐段清理乾淨，再有高順師兄直接踩入水中，清除水道中徒長的草類，兩個小時出坡下來，好像把過去因人力不足落後的進度，一下就禰補了不少回來，在此謝謝第八組和天母線園丁等13位菩薩，一起在初秋的熱天下揮汗出坡。收坡時依舊是滿滿的點心飲品，同樣也上演著類似的場景，彼此勸食並請大家協助分頭帶回去，幾位師兄姐熱情準備，但一時又消化不完的食物……若說出坡有甚麼好處? 也許這一刻無有負擔的開心與幸福，就是最棒的收穫。 \n夏暮，西風漸起；秋微，千里黃昏，處暑過半，初秋氣白天地始肅，卻也是五穀豐登而藏的黃金歲月。此刻適合停下歇息，看天看雲看流水，人是因為停下，心才有風景。大家不妨放慢節奏，聽聽風的輕柔，看看纖雲四卷，體會那半池荷花半池風的氣爽秋高，不也是場悠閒的人生享受嗎? 處暑之後常有秋乏的狀況，實乃陽藏陰生天地陰陽交替變化使然，應早睡早起夜臥防涼，夜晚建議關好門窗，以防止秋風受寒。如有運動應以適度為宜，避免過度而傷到陽氣。食飲上如前次通知建議，還是以少食辛辣，滋陰潤肺健脾益氣為原則，多補充溫開水，忌吃生冷瓜果或冰鎮飲料，如有進補，也要視個人體質，不宜盲目進補。有空多伸伸懶腰，能增加心、肺擠壓，有助全身供氧，可解秋乏之感，供大家參考。 \n下次出坡是9/1，尚無法預測金山地區是否有雨，但相信氣溫一定是越來越合適出坡的天候，在此誠邀請第九組的師兄姐以及景觀園丁菩薩們，預留時間同來出坡。如前來出坡，請務必因應多準備一套乾爽衣物，於出坡後更換，以免返程在車上因空調受涼。下次出坡有計畫開車參與可以提供共乘的師兄姐，請事先通知如鈴師姐車號以利通報山上。如有需要協助安排搭載者，可以先請以電話或簡訊0939266886與我聯絡或0910112515與莊德純師兄聯絡，倘若有來不及通報時，煩請師兄姐將車停大停車場，再走路往法鼓大學橋頭景觀區會合，感恩大家。 \n \nPS.景觀組出坡大致工作內容: \n\n四周步道及下草坪平臺的石板鋪面間的草類清除\n草坪上和大石頭旁徒長的草類\n水岸兩邊石頭邊坡間縫的大花咸豐草\n石籠邊坡上的牽牛花藤和大花咸豐草，(蕨類要保留)高處邊坡請勿攀爬，另由熟練的園丁負責\n大片面積草坪割草後的草屑收集裝袋\n如遇雨後會有漂流木的清理\n入口石板步道的筆筒樹，枯黃的葉柄請由專人處理，切勿硬拉扯下來或由葉柄根部切鋸，以免造成傷口暴露而讓筆筒樹染病\n\n建平合十感恩[/vc_column_text][vc_single_image image="10384" img_size=""][vc_column_text]法鼓山法行會景觀養護第411次出坡園丁快樂行 \n\n時間：113/9/1(日) 下午14:00~16:00景觀出坡\n地點：金山法鼓山教育園區法鼓大學橋頭溪畔\n茲預定2024年的出坡日期如后: 2024/9/1(日)\,2024/9/15(日)\,2024/9/29(日)\,2024/10/13(日)\,2024/10/27(日)\,\n2024/11/10(日)\,2024/11/24(日)\,2024/12/8(日)\,2024/12/22(日)\,2025/1/5(日)\,2025/1/19(舊曆年前出坡日)\,2025/2/9(舊曆年後出坡日)。\n以上為來年出坡預定日期，再請大家參考，並將之排入您的行事曆中，無任感激。倘日期與山上重大活動有時間衝突時，屆時再視情況調整。\n\n[/vc_column_text][/vc_column][/vc_row] \n
URL:https://fsddm.tw/event/%e6%99%af%e8%a7%80%e7%b5%84%e7%ac%ac411%e6%ac%a1%e5%87%ba%e5%9d%a1%e9%80%9a%e7%9f%a5/
LOCATION:法鼓山世界佛教教育園區\, 新北市金山區三界里法鼓路555號\, 台灣
CATEGORIES:活動快訊
ATTACH;FMTTYPE=image/png:https://fsddm.tw/inc/uploads/2024/08/411.png
END:VEVENT
END:VCALENDAR