BEGIN:VCALENDAR
VERSION:2.0
PRODID:-//法鼓山法行會 - ECPv4.6.25//NONSGML v1.0//EN
CALSCALE:GREGORIAN
METHOD:PUBLISH
X-WR-CALNAME:法鼓山法行會
X-ORIGINAL-URL:https://fsddm.tw
X-WR-CALDESC:Events for 法鼓山法行會
BEGIN:VEVENT
DTSTART;TZID=UTC+0:20250105T140000
DTEND;TZID=UTC+0:20250105T160000
DTSTAMP:20260420T113753
CREATED:20250102T012242Z
LAST-MODIFIED:20250102T012825Z
UID:10487-1736085600-1736092800@fsddm.tw
SUMMARY:景觀組第418次出坡通知
DESCRIPTION:[vc_row][vc_column][vc_message message_box_color="chino" icon_fontawesome="fa fa-exclamation-circle" css=".vc_custom_1724212147417{margin-bottom: 20px !important;}"]法行會景觀出坡自2007年起迄今，常態出席的園丁人手日漸不足，還好這幾年有各組輪替按組別月份前來共同出坡，讓人手不足的窘境得以紓緩。目前因多位資深園丁年歲漸高，不宜再開車提供慈航載景觀菩薩上山，以致於有時候會讓比較會固定出坡的園丁，大老遠到石牌站會合共乘，又面臨車座位有限而沒能全數上山。因此有一事相求，想徵詢諸位師兄姐們，如日常有開車，且週日有可能可以上山提供共乘慈航的師兄姐們，能否與我聯繫，希望景觀組能再有園丁新血的加入，感恩大家。[/vc_message][vc_column_text]諸位園位丁菩薩及法行師兄姐們，阿彌陀佛! \n冬至接近尾聲，1/6將是小寒，冬季的最後第二個節氣，天候也相應呈現了應有的寒意。小寒雖然是一年中最寒冷的開始，但也是自然界生命力最強的時期。此時大地正蘊藏著臨近春天的生機和孕育生命的力量。因此小寒也是人們準備迎接新一年的前奏。 \n前次出坡是2024年的年末出坡日，當天感恩有資深園丁連師兄與同修含少師姐，應承諾一定會有頭有尾第(年頭年尾)前來參加出坡，另有第三組組長賴師姐特地提前來體驗出坡，以應一月份該組的出坡活動，當然還有茉莉師姐以及南港線與天母線的核心園丁們，共有十四位師兄姐，在寒涼的天候中，一同在景觀區盡心盡力地清除整理各種草類和藤蔓。也因人手足夠，讓我們有機會順勢往後段的邊坡推進。過程中也謝謝常辨法師，特別帶來平安米來關懷大家，並提醒大家因天寒提前收坡。收坡後等待著大家，一仍是茉莉 玓鈴師姐們準備的紅豆湯，菱角，烤地瓜，草仔棵，鹹光餅等爆量點心，大家在寒冷的天氣中，歡喜地享用點心，交流心得，這種溫馨時光也是我們出坡活動另一種很棒的享受。 \n1/5的418次出坡是2025年的第一次出坡，在此誠邀請法行會師兄姐及園丁菩薩們，能撥冗前來參與出坡。如師兄姐有計畫前來出坡，因為天冷，還請務必多準備一套乾爽衣物，於出坡後更換，以免受涼。另有計畫開車參與可以提供共乘的師兄姐，請事先通知如鈴師姐車號以利通報山上。倘若有來不及通報時，煩請師兄姐將車停大停車場後，再走路往法鼓大學橋頭景觀區會合，感恩大家。 \n法行會景觀出坡自2007年起迄今，常態出席的園丁人手日漸不足，還好這幾年有各組輪替按組別月份前來共同出坡，讓人手不足的窘境得以紓緩。目前因多位資深園丁年歲漸高，不宜再開車提供慈航載景觀菩薩上山，以致於有時候會因共乘慈航的車數不足，而造成常固定出坡的園丁，因面臨車座位有限而沒能全數上山。因此有一事相求，想徵詢諸位師兄姐們，如日常有開車，且週日有可能可以上山提供共乘慈航的師兄姐們，能否與我聯繫，誠希望能再有法行會師兄姐加入景觀組的行列，感恩大家。 \n \nPS.景觀組出坡大致工作內容: \n\n四周步道及下草坪平臺的石板鋪面間的草類清除\n草坪上和大石頭旁徒長的草類\n水岸兩邊石頭邊坡間縫的大花咸豐草\n石籠邊坡上的牽牛花藤和大花咸豐草，(蕨類要保留)高處邊坡請勿攀爬，另由熟練的園丁負責\n大片面積草坪割草後的草屑收集裝袋\n如遇雨後會有漂流木的清理\n入口石板步道的筆筒樹，枯黃的葉柄請由專人處理，切勿硬拉扯下來或由葉柄根部切鋸，以免造成傷口暴露而讓筆筒樹染病\n\n建平合十感恩[/vc_column_text][vc_single_image image="10488" img_size=""][vc_column_text]法鼓山法行會景觀養護第418次出坡園丁快樂行 \n\n時間：114/01/05(日) 下午14:00~16:00景觀出坡\n地點：金山法鼓山教育園區法鼓大學橋頭溪畔\n茲預定2025年的出坡日期如后:2025/1/5(日)，2025/1/19(舊曆年前出坡日)，2025/2/9(舊曆年後出坡日)，2025/2/23(日)，2025/3/9(日)，2025/3/23(日)，2025/4/6(日)，2025/4/20(日)，2025/5/4(日)，2025/5/18(日)，2025/6/1(日)，2025/6/15(日)，2025/6/29(日)，2025/7/13(日)，2025/7/27(日)，2025/8/10(日)，2025/8/24(日)，2025/9/7(日)，2025/9/21(日)，2025/10/5(日)，2025/10/19(日)，2025/11/2(日)，2025/11/16(日)，2025/11/30(日)，2025/12/14(日)，2025/12/28(日)，2026/1/11(日)，2026/1/25(日)，2026/2/8(舊曆年前出坡日)。\n以上為來年出坡預定日期，再請大家參考，並將之排入您的行事曆中，無任感激。倘日期與山上重大活動有時間衝突時，屆時再視情況調整。\n\n[/vc_column_text][/vc_column][/vc_row] \n
URL:https://fsddm.tw/event/%e6%99%af%e8%a7%80%e7%b5%84%e7%ac%ac418%e6%ac%a1%e5%87%ba%e5%9d%a1%e9%80%9a%e7%9f%a5/
LOCATION:法鼓山世界佛教教育園區\, 新北市金山區三界里法鼓路555號\, 台灣
CATEGORIES:活動快訊
ATTACH;FMTTYPE=image/png:https://fsddm.tw/inc/uploads/2025/01/418-2.png
END:VEVENT
END:VCALENDAR