BEGIN:VCALENDAR
VERSION:2.0
PRODID:-//法鼓山法行會 - ECPv4.6.25//NONSGML v1.0//EN
CALSCALE:GREGORIAN
METHOD:PUBLISH
X-WR-CALNAME:法鼓山法行會
X-ORIGINAL-URL:https://fsddm.tw
X-WR-CALDESC:Events for 法鼓山法行會
BEGIN:VEVENT
DTSTART;VALUE=DATE:20250301
DTEND;VALUE=DATE:20250302
DTSTAMP:20260420T054442
CREATED:20260224T042628Z
LAST-MODIFIED:20260224T042628Z
UID:10731-1740787200-1740873599@fsddm.tw
SUMMARY:景觀組第448次出坡通知
DESCRIPTION:[vc_row][vc_column][vc_message message_box_color="chino" icon_fontawesome="fa fa-exclamation-circle" css=".vc_custom_1771906955525{margin-bottom: 20px !important;}"]法行會景觀出坡自2007年起迄今，常態出席的園丁人手日漸不足，還好這幾年有各組輪替按組別月份前來共同出坡，讓人手不足的窘境得以紓緩。目前因多位資深園丁年歲漸高，不宜再開車載景觀菩薩上山，以致於有時候會因共乘慈航的車數不足，而造成常固定出坡的園丁，因面臨車座位有限而沒能全數上山。因此有一事相求，想徵詢諸位師兄姐們，如日常有開車，且週日有機會可以提供共乘的師兄姐們，能否與我聯繫，誠希望能再有法行會師兄姐加入景觀組的行列，感恩大家。[/vc_message][vc_column_text]諸位法行師兄姐園丁菩薩們，阿彌陀佛! \n新春方過，藉此通知向諸位園丁師兄姐拜個晚年，去歲千般皆如願\,今年萬事定稱心，祝願大家馬年，心境如蓮，平安自在，健康吉祥，福隨緣至。舊曆年前的最末一次於2/8圓滿。當天9~10度的低溫，阻擋不了第三組九位師兄姐及寶眷的熱情參與。出坡期間雖冷還好無雨，灰灰的陰雲中，偶有露出些微的陽光，感覺上也幫忙驅散了一點點寒氣。年前的大花似乎隱藏得很好，淳華 玲惠 逸騏等幾位師姐們在玓玲和惠貞師姐的引領下，先將停車場側堤頂上還算明顯的大花，逐次清除，其後法師提醒，該區域非我們認養範圍，所以整隊人手就移師到溪畔中後段石籠邊坡處作業，只是我們區內的大花和藤蔓，在前兩次出坡時，已經清理了差不多，反而法印溪對岸的大花，卻明幌幌的呈現在大家的眼前，最終第三組師兄姐們還是決定撈過界，從對岸陸續拔除了六七袋大花出來。也算是在年前幫上文理學院一點點小忙。也謝謝身手矯捷的俊康師兄，負責清除邊坡高處殘留的大花和藤蔓，並協助運搬師姐們清理出來的草骸。福田和朝信師兄依然延續上次的任務，操作割草機修剪草坪，為山上即將到來的春節，做年前最後一次的修整。同時溪岸靠停車場側的芒草，當天也被割除了不少。總之，以為該次出坡能清理的草量有限，怎知，拜第三組的能量，當天的出坡成果煞是可觀。隨著收坡的時間到來，等著大家是大家分頭帶來的:金桔 蘋果 菱角 地瓜 草籽稞 餅乾與暖暖的薑茶，大家在分享點心與閒聊間，仿彿天都不冷了，我們的第477次出坡，就在歡愉飽足的氛圍下，跟羊年告別。 \n新春初三2/19節氣「雨水」至，雨水潤心田，春光照人間；吉祥隨步至，喜樂滿門前。經過新春幾日的陽光普照天，真映應出了春到人間的煦煦暖意。雨水過後，相信我們景觀出坡區的眾草類，經過了三周的休養生息後，一定也藉著入春後，自然萬物的長勢，向大家招手，歡迎大家前來探尋春的足跡。3/1的第448出坡，是我們馬年第一次出坡，歡迎所有的法行園丁菩薩師兄姐們，能撥冗前來山上走春同來出坡。如當天有計畫開車參與且可以提供共乘的師兄姐，煩請事先依郵件附件中的義工車號表單，協助加入提供慈航的菩薩車號，姓名，電話及四眾編碼，方能通報山上，或請法行會專職師姐，幫忙彙整後協助通報山上。倘若有來不及通報時，煩請師兄姐將車停大停車場後，再與我0939266886聯繫下來接駁，或可走路往法鼓大學橋頭景觀區會合，收坡後我們再載送往大停車場，謝謝大家。 \n \nPS.景觀組出坡大致工作內容: \n\n四周步道及下草坪平臺的石板鋪面間的草類清除\n草坪上和大石頭旁徒長的草類\n水岸兩邊石頭邊坡間縫的大花咸豐草\n石籠邊坡上的牽牛花藤和大花咸豐草，(蕨類要保留)高處邊坡請勿攀爬，另由熟練的園丁負責\n大片面積草坪割草後的草屑收集裝袋\n如遇雨後會有漂流木的清理\n入口石板步道的筆筒樹，枯黃的葉柄請由專人處理，切勿硬拉扯下來或由葉柄根部切鋸，以免造成傷口暴露而讓筆筒樹染病\n\n建平合十感恩[/vc_column_text][vc_single_image image="10732" img_size=""][vc_column_text]法鼓山法行會景觀養護第448次出坡園丁快樂行 \n\n時間：115/3/1(日) 下午14:00~16:00景觀出坡\n地點：金山法鼓山教育園區法鼓大學橋頭溪畔\n茲預定2026年的出坡日期如后:2026/3/1(舊曆年後出坡日)，2026/3/15(日)，2026/3/29(日) ，2026/4/12(日)，2026/4/26(日)，2026/5/10(日) ，2026/5/24(日)，2026/6/7(日)，2026/6/21(日)，2026/7/5(日)，2026/7/19(日)，2026/8/2(日) ，2026/8/16(日)，2026/8/30(日) ，2026/9/13(日)，2026/9/27(日)，2026/10/11(日) ，2026/10/25(日)，2026/11/8(日)，2026/11/22(日)，2026/12/6(日)，2026/12/20(日)，2027/1/3(日)，2027/1/17(日)，2027/1/31(舊曆年前出坡日)，2027/2/14(舊曆年後出坡日)。\n以上為今年出坡預定日期，再請大家參考，並將之排入您的行事曆中，無任感激。倘日期與山上重大活動有時間衝突時，屆時再視情況調整。\n\n[/vc_column_text][/vc_column][/vc_row] \n
URL:https://fsddm.tw/event/%e6%99%af%e8%a7%80%e7%b5%84%e7%ac%ac448%e6%ac%a1%e5%87%ba%e5%9d%a1%e9%80%9a%e7%9f%a5/
LOCATION:法鼓山世界佛教教育園區\, 新北市金山區三界里法鼓路555號\, 台灣
CATEGORIES:活動快訊
ATTACH;FMTTYPE=image/png:https://fsddm.tw/inc/uploads/2026/02/448.png
END:VEVENT
END:VCALENDAR