BEGIN:VCALENDAR
VERSION:2.0
PRODID:-//法鼓山法行會 - ECPv4.6.25//NONSGML v1.0//EN
CALSCALE:GREGORIAN
METHOD:PUBLISH
X-WR-CALNAME:法鼓山法行會
X-ORIGINAL-URL:https://fsddm.tw
X-WR-CALDESC:Events for 法鼓山法行會
BEGIN:VEVENT
DTSTART;TZID=Asia/Taipei:20250329T140000
DTEND;TZID=Asia/Taipei:20250329T163000
DTSTAMP:20260420T085152
CREATED:20250224T010840Z
LAST-MODIFIED:20250224T010840Z
UID:10513-1743256800-1743265800@fsddm.tw
SUMMARY:法行會成長組三月份活動
DESCRIPTION:\n演講題目：斯里蘭卡佛教史蹟與藝術之旅\n主講人：郭祐孟\n職稱：園光佛學研究中心圖像室 · 圆光藝文館執行長\n日期：2025.3.29 (周六 下午2:00-4:30)\n地點：德貴學苑 · 無盡講堂 715教室\n地址：台北市延平南路77號七樓\n\n
URL:https://fsddm.tw/event/%e6%b3%95%e8%a1%8c%e6%9c%83%e6%88%90%e9%95%b7%e7%b5%84%e4%b8%89%e6%9c%88%e4%bb%bd%e6%b4%bb%e5%8b%95-2/
ATTACH;FMTTYPE=image/jpeg:https://fsddm.tw/inc/uploads/2025/02/海報.jpg
END:VEVENT
END:VCALENDAR