BEGIN:VCALENDAR
VERSION:2.0
PRODID:-//法鼓山法行會 - ECPv4.6.25//NONSGML v1.0//EN
CALSCALE:GREGORIAN
METHOD:PUBLISH
X-WR-CALNAME:法鼓山法行會
X-ORIGINAL-URL:https://fsddm.tw
X-WR-CALDESC:Events for 法鼓山法行會
BEGIN:VEVENT
DTSTART;TZID=UTC+0:20240914T140000
DTEND;TZID=UTC+0:20240914T163000
DTSTAMP:20260424T175014
CREATED:20240821T085011Z
LAST-MODIFIED:20240821T085324Z
UID:10393-1726322400-1726331400@fsddm.tw
SUMMARY:法行會成長組九月活動
DESCRIPTION:[vc_row][vc_column][vc_column_text] \n打造全方位不發炎體質—健康促進為什麼能預防21世紀\n人類三大失能殺手：癌症、憂鬱症、失智症 \n30年來陪伴夫婿調整飲食以對抗癌症，智慧來自於生命特殊的歷練，原以為是一場災難，結果化成祝福。[/vc_column_text][vc_column_text] \n\n🗒 日期：9月14日星期六\n⏲ 時間：14:00~16:30\n🏦 地點：法鼓山德貴學苑無盡講堂(台北市中正區延平南路77號7樓)\n👤 主講人：陳月卿 臺灣資深媒體人／養生專家\n📕 主題：打造全方位不發炎體質 健康促進為什麼能預防21世紀\n\n[/vc_column_text][vc_empty_space height="30px"]\n    線上報名請按此\n    [vc_empty_space height="30px"][/vc_column][/vc_row] \n
URL:https://fsddm.tw/event/%e6%b3%95%e8%a1%8c%e6%9c%83%e6%88%90%e9%95%b7%e7%b5%84%e4%b9%9d%e6%9c%88%e6%b4%bb%e5%8b%95-2/
LOCATION:法鼓山德貴學苑\, 100台北市延平南路77號
CATEGORIES:活動快訊
ATTACH;FMTTYPE=image/jpeg:https://fsddm.tw/inc/uploads/2024/08/1721463016297.jpg
ORGANIZER;CN="%E6%B3%95%E8%A1%8C%E6%9C%83":MAILTO:fahsin@ddmf.org.tw
END:VEVENT
END:VCALENDAR