BEGIN:VCALENDAR
VERSION:2.0
PRODID:-//法鼓山法行會 - ECPv4.6.25//NONSGML v1.0//EN
CALSCALE:GREGORIAN
METHOD:PUBLISH
X-WR-CALNAME:法鼓山法行會
X-ORIGINAL-URL:https://fsddm.tw
X-WR-CALDESC:Events for 法鼓山法行會
BEGIN:VEVENT
DTSTART;TZID=Asia/Taipei:20250311T133000
DTEND;TZID=Asia/Taipei:20250311T150000
DTSTAMP:20260422T081837
CREATED:20250224T011202Z
LAST-MODIFIED:20250224T011202Z
UID:10516-1741699800-1741705200@fsddm.tw
SUMMARY:法行會活動組三月份活動
DESCRIPTION:\n展覽：草間彌生的「軌跡」與「奇跡」 --- 圓點女王幻化藝術的創作軌跡\n日期：2025.3.11 (週二 下午13:30-15:00)\n地點：台北教育大學北師美術館\n地址：台北市和平東路二段134號\n說明：日本重要的當代藝術家草間彌生1990年代在國際舞台嶄露頭角。此次展出70組作品包括繪畫、版畫、拼貼、軟雕塑、大型裝置、服裝、影片等多種創作形式\n25個名額專人導覽，額滿即截止報名\n門票：全票$380、敬老票$190\n導覽機：每人$50\n照片：如附件\n\n
URL:https://fsddm.tw/event/%e6%b3%95%e8%a1%8c%e6%9c%83%e6%b4%bb%e5%8b%95%e7%b5%84%e4%b8%89%e6%9c%88%e4%bb%bd%e6%b4%bb%e5%8b%95/
ATTACH;FMTTYPE=image/jpeg:https://fsddm.tw/inc/uploads/2025/02/2d2d42c8d92e088542b6b603a1c4f49d.jpg
END:VEVENT
END:VCALENDAR