BEGIN:VCALENDAR
VERSION:2.0
PRODID:-//法鼓山法行會 - ECPv4.6.25//NONSGML v1.0//EN
CALSCALE:GREGORIAN
METHOD:PUBLISH
X-WR-CALNAME:法鼓山法行會
X-ORIGINAL-URL:https://fsddm.tw
X-WR-CALDESC:Events for 法鼓山法行會
BEGIN:VEVENT
DTSTART;TZID=Asia/Taipei:20230706T180000
DTEND;TZID=Asia/Taipei:20230706T210000
DTSTAMP:20260422T125826
CREATED:20230615T013024Z
LAST-MODIFIED:20230615T035939Z
UID:9990-1688666400-1688677200@fsddm.tw
SUMMARY:法行會第258次例會
DESCRIPTION:[vc_column][vc_column_text][/vc_column_text][/vc_column][vc_row][vc_column][vc_column_text]「法鼓心靈環保教育園地」去年底通過新北市府環境教育設施場所認證，於今年3月29日舉行揭幕儀式，為新北市第一個水土保持類型認證的環教場所。 \n園區的設計，遵循聖嚴師父「心靈環保」理念，力求保護生態環境，並推廣環境教育。7月份例會，我們恭請僧伽大學女眾副院長暨心靈環保研究中心主任果光法師蒞臨，分享設置「法鼓心靈環保教育園地」的構想與實踐：以心靈環保為核心，具華嚴法界觀之生態環保思想，融合漢傳禪法之環境教育教案設計，透過放鬆身心、經行、直觀、虛空觀、海印三昧等禪法，使學員打開五感，體驗大自然；並引導學員感受人與大自然的關係，反思人類行為對自然生態之影響，如何改變自身之行為，以達成聯合國永續發展之目標(SDGs)，推動人間淨土理念，並使園地成為「散播友善環境知能的光源地」。 \n聖嚴師父說：「自然就等於是人類共有的一個大身體」，7月6日敬請會眾廣邀親友一起來學習透過禪修方法提升環境覺知，進一步改變生活方式，對地球永續盡一份力，達到心靈環保健康、平安、幸福、快樂的目標。[/vc_column_text][vc_empty_space][/vc_column][/vc_row][vc_row][vc_column]\n    線上報名請按此\n    [/vc_column][/vc_row] \n
URL:https://fsddm.tw/event/%e6%b3%95%e8%a1%8c%e6%9c%83%e7%ac%ac258%e6%ac%a1%e4%be%8b%e6%9c%83/
LOCATION:凱達飯店\, 台北市萬華區艋舺大道167號\, 台灣
CATEGORIES:活動快訊
ATTACH;FMTTYPE=image/jpeg:https://fsddm.tw/inc/uploads/2018/11/a-07.jpg
ORGANIZER;CN="%E6%B3%95%E8%A1%8C%E6%9C%83":MAILTO:fahsin@ddmf.org.tw
END:VEVENT
END:VCALENDAR