BEGIN:VCALENDAR
VERSION:2.0
PRODID:-//法鼓山法行會 - ECPv4.6.25//NONSGML v1.0//EN
CALSCALE:GREGORIAN
METHOD:PUBLISH
X-WR-CALNAME:法鼓山法行會
X-ORIGINAL-URL:https://fsddm.tw
X-WR-CALDESC:Events for 法鼓山法行會
BEGIN:VEVENT
DTSTART;TZID=Asia/Taipei:20230907T180000
DTEND;TZID=Asia/Taipei:20230907T210000
DTSTAMP:20260422T204100
CREATED:20230818T011443Z
LAST-MODIFIED:20230818T011443Z
UID:10019-1694109600-1694120400@fsddm.tw
SUMMARY:法行會第260次例會
DESCRIPTION:[vc_column][vc_column_text][/vc_column_text][/vc_column][vc_row][vc_column][vc_column_text]過去三年，我們歷經新冠病毒的威脅與恐懼，好不容易終於脫下口罩，重新呼吸甜美的空氣；然而，史上前所未見的各種危機紛至沓來，包括自然生態破壞、極端氣候變遷、戰爭及糧食短缺、人口老化與少子化、AI崛起和科技創新衝擊等等，使得全球面臨生存的巨大挑戰，台灣自不免也陷於如此困境當中，一時間彷彿四面楚歌，前景迷茫。值此國際領袖集思廣義、奮力扭轉危機為契機的關鍵時刻，身為地球村的你我每一份子，都負有守護地球、愛護家園的責任。 \n聖嚴師父說心安就有平安，9月例會我們恭請退居方丈果東法師接受葉樹姗師姐訪談，心靈環保的新價值為何？如何解決地球危機？如何安頓身心？敬邀您及親友一起來參與及提問，得到心安平安的幸福密碼。[/vc_column_text][vc_empty_space][/vc_column][/vc_row][vc_row][vc_column]\n    線上報名請按此\n    [/vc_column][/vc_row] \n
URL:https://fsddm.tw/event/%e6%b3%95%e8%a1%8c%e6%9c%83%e7%ac%ac260%e6%ac%a1%e4%be%8b%e6%9c%83/
LOCATION:凱達飯店\, 台北市萬華區艋舺大道167號\, 台灣
CATEGORIES:活動快訊
ATTACH;FMTTYPE=image/jpeg:https://fsddm.tw/inc/uploads/2020/02/banner_recall.jpg
ORGANIZER;CN="%E6%B3%95%E8%A1%8C%E6%9C%83":MAILTO:fahsin@ddmf.org.tw
END:VEVENT
END:VCALENDAR