BEGIN:VCALENDAR
VERSION:2.0
PRODID:-//法鼓山法行會 - ECPv4.6.25//NONSGML v1.0//EN
CALSCALE:GREGORIAN
METHOD:PUBLISH
X-WR-CALNAME:法鼓山法行會
X-ORIGINAL-URL:https://fsddm.tw
X-WR-CALDESC:Events for 法鼓山法行會
BEGIN:VEVENT
DTSTART;TZID=Asia/Taipei:20231005T180000
DTEND;TZID=Asia/Taipei:20231005T210000
DTSTAMP:20260423T024816
CREATED:20230920T011620Z
LAST-MODIFIED:20230920T011620Z
UID:10044-1696528800-1696539600@fsddm.tw
SUMMARY:法行會第261次例會
DESCRIPTION:[vc_column][vc_column_text][/vc_column_text][/vc_column][vc_row][vc_column][vc_column_text]《楞嚴經》是漢傳佛教極為重要的一部修行寳典，明代憨山德清大師有云：「原夫《首楞嚴經》者，乃諸佛之秘藏、修行之妙門、迷誤之根源、真妄之大本；不讀《楞嚴》，不知修心迷誤之關鍵。」 \n心是什麼？心在何處？《楞嚴經》以真心、妄心作為闡述心性的「兩種根本」，所有佛教經論與法門，無不緊扣此二根本來論述人生宇宙的真理。\n自無始劫以來，眾生不明白「兩種根本」，更不知本自具足與佛一樣的真心，因而攀緣六識妄心，生出種種巔倒妄念與煩惱，流於生死輪迴的苦果。 \n我們如何「破妄歸真」，從生死輪迴中解脫，10月份法行例會恭請常隨法師以深入淺出的方式解說《楞嚴經》，並引領大眾將法義契入生活中修行實踐，10月5日敬邀會眾及親友一起來開啓智慧的眼，照見我們的本來面目，展現大悲大智的新生命。[/vc_column_text][vc_empty_space][/vc_column][/vc_row][vc_row][vc_column]\n    線上報名請按此\n    [/vc_column][/vc_row] \n
URL:https://fsddm.tw/event/%e6%b3%95%e8%a1%8c%e6%9c%83%e7%ac%ac261%e6%ac%a1%e4%be%8b%e6%9c%83/
LOCATION:凱達飯店\, 台北市萬華區艋舺大道167號\, 台灣
CATEGORIES:活動快訊
ATTACH;FMTTYPE=image/jpeg:https://fsddm.tw/inc/uploads/2020/10/068.jpg
ORGANIZER;CN="%E6%B3%95%E8%A1%8C%E6%9C%83":MAILTO:fahsin@ddmf.org.tw
END:VEVENT
END:VCALENDAR