BEGIN:VCALENDAR
VERSION:2.0
PRODID:-//法鼓山法行會 - ECPv4.6.25//NONSGML v1.0//EN
CALSCALE:GREGORIAN
METHOD:PUBLISH
X-WR-CALNAME:法鼓山法行會
X-ORIGINAL-URL:https://fsddm.tw
X-WR-CALDESC:Events for 法鼓山法行會
BEGIN:VEVENT
DTSTART;TZID=Asia/Taipei:20240307T180000
DTEND;TZID=Asia/Taipei:20240307T210000
DTSTAMP:20260423T143144
CREATED:20240229T005534Z
LAST-MODIFIED:20240229T005534Z
UID:10194-1709834400-1709845200@fsddm.tw
SUMMARY:法行會第266次例會
DESCRIPTION:[vc_column][vc_column_text][/vc_column_text][/vc_column][vc_row][vc_column][vc_column_text]「成佛在《法華》，開悟在《楞嚴》」，從去年十月開始的「破妄歸真」系列講座，常隨法師以說故事的方式，為我們闡述「唯心與目，今何所在」的《楞嚴》深奧大義；「七處破妄」是覺悟與否的重要關鍵，眾生若能透過聞思修證得苦、空、無常、無我的「法空我空」，就能悟到真心之所在。 \n經典有云：「心佛眾生，三無差別。」眾生不察生命是因緣和聚而有，卻執著五蘊世界，用妄識思惟，以致煩惱不斷，流轉於生死輪迴中。 \n常隨法師於一月例會中開示，能夠聽聞《楞嚴經》都是有福報的人，若修持此經的同時，早晚再勤加念佛禪坐，如同手機的「作業系統轉換」，我們的行識和意根也能重新連結而自動更新，開悟也就在瞬間了。 \n三月例會最後一堂《楞嚴》講座，我們邀請您及親友保握難得因緣，一起來體悟生活中如何實踐《楞嚴》心法，尋回真心，開展自在的幸福人生。[/vc_column_text][vc_empty_space][/vc_column][/vc_row][vc_row][vc_column]\n    線上報名請按此\n    [/vc_column][/vc_row] \n
URL:https://fsddm.tw/event/%e6%b3%95%e8%a1%8c%e6%9c%83%e7%ac%ac266%e6%ac%a1%e4%be%8b%e6%9c%83/
LOCATION:凱達飯店\, 台北市萬華區艋舺大道167號\, 台灣
CATEGORIES:活動快訊
ATTACH;FMTTYPE=image/jpeg:https://fsddm.tw/inc/uploads/2020/11/0020.jpg
ORGANIZER;CN="%E6%B3%95%E8%A1%8C%E6%9C%83":MAILTO:fahsin@ddmf.org.tw
END:VEVENT
END:VCALENDAR