BEGIN:VCALENDAR
VERSION:2.0
PRODID:-//法鼓山法行會 - ECPv4.6.25//NONSGML v1.0//EN
CALSCALE:GREGORIAN
METHOD:PUBLISH
X-WR-CALNAME:法鼓山法行會
X-ORIGINAL-URL:https://fsddm.tw
X-WR-CALDESC:Events for 法鼓山法行會
BEGIN:VEVENT
DTSTART;TZID=Asia/Taipei:20240411T180000
DTEND;TZID=Asia/Taipei:20240411T210000
DTSTAMP:20260423T173631
CREATED:20240322T020344Z
LAST-MODIFIED:20240409T055806Z
UID:10204-1712858400-1712869200@fsddm.tw
SUMMARY:法行會第267次例會
DESCRIPTION:[vc_column][vc_column_text][/vc_column_text][/vc_column][vc_row][vc_column][vc_column_text]聖嚴師父創辦的法鼓山提倡三大教育與推動全面關懷，僧團扮演掌握理念指導中心的角色。在僧團的外圍，則有在家居士組成的護法團體，這是法鼓山團體裡很重要的一部分；如果沒有這些外圍護法組織，僧團有如一座孤島。事實上，僧團是為大眾奉獻、服務而存在的，特別是為來山的菩薩提供教育和佛法的關懷課程。而護法居士既來山學習，也可以是弘法的先鋒。 \n法鼓山的護法組織，現有護法會、法行會、法緣會、菁英共修會、法青會、榮譽董事會、教師聯誼會、禪坐會、念佛會、助念團、合唱團與義工團等；各會團之間，彼此相互支援，僧團法師也投入其中，擔任輔導與關懷的角色。此外 聖嚴師父對僧俗四眾期勉法鼓山要邁向年輕化、國際化，因此法鼓山另成立十一個基金會，辦理各項文化、慈善、教育、人文與公益等社會活動。 \n1989年法鼓山創立，至今已逾30多年，為讓法行會的會員更了解法鼓山，本次例會特別邀請都監常遠法師以「教團的組織與運作」為講題，歡迎大家踴躍報名，共同為弘法護法盡一分力。[/vc_column_text][vc_empty_space][/vc_column][/vc_row][vc_row][vc_column]\n    線上報名請按此\n    [/vc_column][/vc_row] \n
URL:https://fsddm.tw/event/%e6%b3%95%e8%a1%8c%e6%9c%83%e7%ac%ac267%e6%ac%a1%e4%be%8b%e6%9c%83/
LOCATION:凱達飯店\, 台北市萬華區艋舺大道167號\, 台灣
CATEGORIES:活動快訊
ATTACH;FMTTYPE=image/jpeg:https://fsddm.tw/inc/uploads/2020/11/0019.jpg
ORGANIZER;CN="%E6%B3%95%E8%A1%8C%E6%9C%83":MAILTO:fahsin@ddmf.org.tw
END:VEVENT
END:VCALENDAR