BEGIN:VCALENDAR
VERSION:2.0
PRODID:-//法鼓山法行會 - ECPv4.6.25//NONSGML v1.0//EN
CALSCALE:GREGORIAN
METHOD:PUBLISH
X-WR-CALNAME:法鼓山法行會
X-ORIGINAL-URL:https://fsddm.tw
X-WR-CALDESC:Events for 法鼓山法行會
BEGIN:VEVENT
DTSTART;TZID=Asia/Taipei:20240606T180000
DTEND;TZID=Asia/Taipei:20240606T210000
DTSTAMP:20260424T044552
CREATED:20240513T064515Z
LAST-MODIFIED:20240513T064515Z
UID:10308-1717696800-1717707600@fsddm.tw
SUMMARY:法行會第269次例會
DESCRIPTION:[vc_column][vc_column_text][/vc_column_text][/vc_column][vc_row][vc_column][vc_column_text]位於印尼爪哇島的「婆羅浮屠」（Borobudur）佛塔，約於西元760至830年間，由當時統治者夏連特拉王朝所興建，是當前世界上最古老、也是最大的佛教建築，與長城、金字塔、吳哥窟並稱古代東方四大奇蹟，1991年被列入世界文化遺產。 \n整座「婆羅浮屠」從上往下看，就像佛教金剛乘中的一座「曼陀羅」，象徵宇宙世界結構的本源。夏連特拉王朝君主自期為守護正法的「轉輪聖王」，因此營造「婆羅浮屠」作為佛國理想的教化與宣揚場域。 \n「婆羅浮屠」曼陀羅佛塔有下、中、上三層，分別代表佛教所謂欲界（貪欲之世間）、色界（離欲之禪天世界）、無色界（離色身之心識界）等三界世間，讓參訪者由底層往上升進時，體驗身心淨化與昇華轉換的意境。 \n法行6月例會，我們特別恭請首座和尚惠敏法師以『「婆羅浮屠」曼陀羅之超越三界』為題開示，歡迎會眾廣邀親友一起來聆聽，佛法教義的三大修煉境界、如何與《瑜伽師地論》「觀地起行，方證果故」之十七地意義結合，並依循理事圓融的修行次第，通達成佛的終極目標。[/vc_column_text][vc_empty_space][/vc_column][/vc_row][vc_row][vc_column]\n    線上報名請按此\n    [/vc_column][/vc_row] \n
URL:https://fsddm.tw/event/%e6%b3%95%e8%a1%8c%e6%9c%83%e7%ac%ac269%e6%ac%a1%e4%be%8b%e6%9c%83/
LOCATION:凱達飯店\, 台北市萬華區艋舺大道167號\, 台灣
CATEGORIES:活動快訊
ATTACH;FMTTYPE=image/jpeg:https://fsddm.tw/inc/uploads/2019/09/p008.jpg
ORGANIZER;CN="%E6%B3%95%E8%A1%8C%E6%9C%83":MAILTO:fahsin@ddmf.org.tw
END:VEVENT
END:VCALENDAR