BEGIN:VCALENDAR
VERSION:2.0
PRODID:-//法鼓山法行會 - ECPv4.6.25//NONSGML v1.0//EN
CALSCALE:GREGORIAN
METHOD:PUBLISH
X-WR-CALNAME:法鼓山法行會
X-ORIGINAL-URL:https://fsddm.tw
X-WR-CALDESC:Events for 法鼓山法行會
BEGIN:VEVENT
DTSTART;TZID=Asia/Taipei:20240704T180000
DTEND;TZID=Asia/Taipei:20240704T210000
DTSTAMP:20260424T055757
CREATED:20240619T010932Z
LAST-MODIFIED:20240619T010932Z
UID:10315-1720116000-1720126800@fsddm.tw
SUMMARY:法行會第270次例會
DESCRIPTION:[vc_column][vc_column_text][/vc_column_text][/vc_column][vc_row][vc_column][vc_column_text]默，是不受自己內心及環境的影響而動，心保持安定的狀態。照，則是清清楚楚知道所有的狀況；當下是什麼便是什麼，即與本來面目相應，這就是默照禪。聖嚴師父說，默照禪法是最容易用的修行方法。 \n《聖嚴法師教默照禪》一書中指出，默照禪法於十二世紀由宏智正覺禪師提倡，其源頭主要出於六祖惠能禪師的一行三昧坐禪法。聖嚴師父以畢生禪修體驗，將歷代諸宗各派的教法條理化、系統化整合之後，發展成能融入日常生活的現代禪法。 \n然而，現代人學習禪修多半只停留在放鬆身心的階段，但修行遠不僅於此。七月法行會例會特別恭請禪修中心副都監果醒法師闡示默照禪的教理，以及如何透過放鬆身心、體驗呼吸、觀全身、觀環境、直觀及空觀等六個次第，守住清淨佛性、契入真心，我們敬邀會眾及親友一起來領受「默照同時」、也是「止觀同時」、「定慧同時」的默照禪最高境界。[/vc_column_text][vc_empty_space][/vc_column][/vc_row][vc_row][vc_column]\n    線上報名請按此\n    [/vc_column][/vc_row] \n
URL:https://fsddm.tw/event/%e6%b3%95%e8%a1%8c%e6%9c%83%e7%ac%ac270%e6%ac%a1%e4%be%8b%e6%9c%83/
LOCATION:凱達飯店\, 台北市萬華區艋舺大道167號\, 台灣
CATEGORIES:活動快訊
ATTACH;FMTTYPE=image/jpeg:https://fsddm.tw/inc/uploads/2020/02/banner_recall.jpg
ORGANIZER;CN="%E6%B3%95%E8%A1%8C%E6%9C%83":MAILTO:fahsin@ddmf.org.tw
END:VEVENT
END:VCALENDAR