BEGIN:VCALENDAR
VERSION:2.0
PRODID:-//法鼓山法行會 - ECPv4.6.25//NONSGML v1.0//EN
CALSCALE:GREGORIAN
METHOD:PUBLISH
X-WR-CALNAME:法鼓山法行會
X-ORIGINAL-URL:https://fsddm.tw
X-WR-CALDESC:Events for 法鼓山法行會
BEGIN:VEVENT
DTSTART;TZID=Asia/Taipei:20250306T180000
DTEND;TZID=Asia/Taipei:20250306T210000
DTSTAMP:20260420T072245
CREATED:20250224T011444Z
LAST-MODIFIED:20250224T011444Z
UID:10519-1741284000-1741294800@fsddm.tw
SUMMARY:法鼓山法行會第278次例會
DESCRIPTION:[vc_column][vc_column_text][/vc_column_text][/vc_column][vc_row][vc_column][vc_column_text] \n\n\n主題: 幸福「讀心術」—識的本來面目\n略析《唯識三十頌》\n\n主講法師:常隨法師\n \n◆時間：114年3月6日（四）18:00〜21:00（報到時間：18:00～19:00）\n◆地點：台北凱達大飯店三樓宴會廳 (台北市萬華區艋舺大道167號)\n◆報名：敬請於3月2日（日）前報名，以便統計用餐人數及座位安排，感恩!\n\n我是誰？什麼是我的本來面目？讓我們生死輪迴不已的又是什麼？相信你我都不斷在  探究這些關於生命本質的問題。\n\n唐三藏玄奘大師所論著《八識規矩頌》，內容討論八個識和一百個法的關係，已提供答案：所謂「唯心所現，唯識所變」，宇宙萬有皆由人的心識作用所建立。\n\n唯識學從阿賴耶緣起出發，針對我們染淨和合的心，直探生命的根源，也被稱爲佛教心理學，《八識規矩頌》則是學習唯識的入門經典。\n\n聖嚴師父說，唯識學是一門很有趣味的佛學，三月法行例會，我們恭請法鼓山僧團弘講師常隨法師，以『幸福「讀心術」— 識的本來面目』為題作四次講座，引領我們認識唯識相、唯識性和唯識位等三種法義，讓我們在面對天地萬象時，能看清自己的起心動念，破解生命密碼。\n\n三月六日敬邀會眾及親友一起來跟隨法師《探索識界》，掌握轉識成智的智慧，進而性相圓融、轉凡為聖，成就無上菩提道。\n\n\n\n\n\n\n\n\n\n\n\n\n\n\n\n\n\n\n\n                                                                                                                                                                                                                            法鼓山法行會\n                                                                                                                                                                                                                           會長  賴杉桂  合十\n\n \n 雲端報名由此進\n\n祝  心安平安  福慧自在!\n\n法行會  恭敬合十\n會所：台北市北投區三合街一段99號(雲來別苑)\n電話：02-2896-6119#257\n電子信箱：fahsin.ddm@gmail.com\n\n\n\n\n\n\n\n\n\n\n\n\n\n\n\n\n\n\n\n[/vc_column_text][vc_empty_space][/vc_column][/vc_row][vc_row][vc_column]\n    線上報名請按此\n    [/vc_column][/vc_row] \n
URL:https://fsddm.tw/event/%e6%b3%95%e9%bc%93%e5%b1%b1%e6%b3%95%e8%a1%8c%e6%9c%83%e7%ac%ac278%e6%ac%a1%e4%be%8b%e6%9c%83/
LOCATION:凱達飯店\, 台北市萬華區艋舺大道167號\, 台灣
CATEGORIES:活動快訊
ATTACH;FMTTYPE=image/jpeg:https://fsddm.tw/inc/uploads/2024/11/1111.jpg
ORGANIZER;CN="%E6%B3%95%E8%A1%8C%E6%9C%83":MAILTO:fahsin@ddmf.org.tw
END:VEVENT
END:VCALENDAR