BEGIN:VCALENDAR
VERSION:2.0
PRODID:-//法鼓山法行會 - ECPv4.6.25//NONSGML v1.0//EN
CALSCALE:GREGORIAN
METHOD:PUBLISH
X-WR-CALNAME:法鼓山法行會
X-ORIGINAL-URL:https://fsddm.tw
X-WR-CALDESC:Events for 法鼓山法行會
BEGIN:VEVENT
DTSTART;TZID=UTC+0:20240505T080000
DTEND;TZID=UTC+0:20240505T170000
DTSTAMP:20260424T000210
CREATED:20240410T035322Z
LAST-MODIFIED:20240508T064848Z
UID:10217-1714896000-1714928400@fsddm.tw
SUMMARY:活動組2024年5月活動：坪林茶文化深度之旅
DESCRIPTION:[vc_row][vc_column][vc_column_text] \n\n🗒 日期：5/05（日）早上8:00，團體活動敬請準時\n⏲ 時間：08:00~17:00\n🏦 地點：忠孝復興捷運站2號出口、復興南路上SOGO前集合\n👤 聯絡人：李傳三師兄、楊松華師兄\n📕 主題：活動組用法行會活動組坪林淨零、遊山茶訪\n\n[/vc_column_text][vc_empty_space height="30px"][vc_empty_space height="30px"][/vc_column][/vc_row][vc_row gap="20"][vc_column width="1/2"][vc_empty_space height="25px"][vc_images_carousel images="10226\,10225\,10228\,10227" img_size="full" onclick="link_no" autoplay="yes" wrap="yes"][/vc_column][vc_column width="1/2"]\n            淨零坪林、遊山茶訪 (跟著碳長黃銘豐師兄再訪坪林)\n        \n        \n    \n    \n        08:00\n        忠孝復興捷運站2號出口、復興南路上SOGO前集合\n    \n\n    \n    \n        09:00\n        到坪林綠光農園、品茗有機茶，欣賞坪林鳥類、動物、花草生態影片。室內活動、自由入座。\n    \n\n    \n    \n        10:10\n        鼓動坪林：欣賞坪林國小太鼓隊表演，法鼓隊長啟華與學生交流。代理會長：崇忠師兄捐贈獎學金\n    \n\n    \n    \n        11:00\n        參觀茶業博物館。參觀博物館後，由坪林農會陳文慶理事長走訪茶園。\n    \n\n    \n    \n        11:30\n        觀賞茶園\n    \n\n    \n    \n        12:30\n        合歡餐廳享用茶餐、慶生會。\n    \n\n    \n    \n        14:00\n        坪林商圈老街品茗、閒逛。由形象商圈發展恊會高銘富理事長安排，備茶席喝茶。\n    \n\n    \n    \n        15:00\n        參觀坪林良醫藥師本鋪，自由入座互動討論。交流內容：崇忠會長的話頭禪、美伶副會長的台灣創生在坪林、法鼓隊與驫舞劇場即興表演。\n    \n\n    \n    \n        16:30\n        上車返回台北\n    \n    \n[vc_column_text]備註：感謝十年前已在做減碳的坪林前鄉長黃銘豐師兄悉心安排。[/vc_column_text][/vc_column][/vc_row][vc_row][vc_column][vc_tta_tabs][vc_tta_section title="1樓主講者" tab_id="1714700976368-ea3e351c-c8a5"][vc_column_text] \n王崇忠會長話頭禪\n[/vc_column_text][vc_column_text]「法不孤起；仗境緣生」字字珠磯的精英共修會崇忠會長每次活動均抽空來護持說法。禪修中問題大家互動，互相交流成長！[/vc_column_text][/vc_tta_section][vc_tta_section title="2樓主講者" tab_id="1714700976384-a84c711a-7aec"][vc_column_text] \n美伶副會長\n[/vc_column_text][vc_column_text]台灣創生在坪林，藥師本舖的位置就在藍鵲茶團隊在坪林開的百年書店的附近，邀請主理人黃柏鈞與林宜平來一起分享[/vc_column_text][/vc_tta_section][vc_tta_section title="3樓主講者" tab_id="1714701117017-40c50903-3f7e"][vc_column_text] \n倖如師姐\n[/vc_column_text][vc_column_text] \n\n法鼓隊介紹、為何學鼓\,由隊長啟華夫妻協助\n自由步～為難自己、退休後的舞蹈學習\n自由步於澳門城市藝術節發表對跨境樂齡影響\n\n[/vc_column_text][/vc_tta_section][/vc_tta_tabs][/vc_column][/vc_row] \n
URL:https://fsddm.tw/event/2024-pinglin-activities/
LOCATION:新北市坪林區\, 台灣
CATEGORIES:活動快訊
ATTACH;FMTTYPE=image/jpeg:https://fsddm.tw/inc/uploads/2024/04/main-1.jpg
END:VEVENT
END:VCALENDAR